BEGIN:VCALENDAR
VERSION:2.0
PRODID:-//www.rmdc.net//NONSGML kigkonsult.se iCalcreator 2.30.10//
CALSCALE:GREGORIAN
METHOD:PUBLISH
UID:1438cb9b-4ec6-4b7c-9a13-4d27b148c5c8
X-WR-CALDESC:
X-WR-RELCALID:9824d2c22ecf5e86e1e0a6ed8d4c94fc
X-WR-TIMEZONE:America/Denver
BEGIN:VTIMEZONE
TZID:America/Denver
BEGIN:STANDARD
TZNAME:MST
DTSTART:20281105T020000
TZOFFSETFROM:-0600
TZOFFSETTO:-0700
RDATE:20291104T020000
END:STANDARD
BEGIN:DAYLIGHT
TZNAME:MDT
DTSTART:20290311T020000
TZOFFSETFROM:-0700
TZOFFSETTO:-0600
RDATE:20300310T020000
END:DAYLIGHT
END:VTIMEZONE
BEGIN:VEVENT
UID:95364f07-3307-4632-9476-1b19e7a87a92
DTSTAMP:20260422T113346Z
DESCRIPTION:
DTSTART;TZID=America/Denver:20290320T130000
DTEND;TZID=America/Denver:20290320T160000
LOCATION:
SUMMARY:Pinochle
END:VEVENT
END:VCALENDAR
