BEGIN:VCALENDAR
VERSION:2.0
PRODID:-//www.rmdc.net//NONSGML kigkonsult.se iCalcreator 2.30.10//
CALSCALE:GREGORIAN
METHOD:PUBLISH
UID:2da082b0-9678-408a-af1a-e94bdd35819b
X-WR-CALDESC:Join us for a gentle exercise class!
X-WR-RELCALID:c1324262053c72f2a561c1f5ac317765
X-WR-TIMEZONE:America/Denver
BEGIN:VTIMEZONE
TZID:America/Denver
BEGIN:STANDARD
TZNAME:MST
DTSTART:20281105T020000
TZOFFSETFROM:-0600
TZOFFSETTO:-0700
RDATE:20291104T020000
END:STANDARD
BEGIN:DAYLIGHT
TZNAME:MDT
DTSTART:20290311T020000
TZOFFSETFROM:-0700
TZOFFSETTO:-0600
RDATE:20300310T020000
END:DAYLIGHT
END:VTIMEZONE
BEGIN:VEVENT
UID:7eb7b80a-ef35-40c7-b3fc-36a31208364f
DTSTAMP:20260422T113107Z
DESCRIPTION:Join us for a gentle exercise class!
DTSTART;TZID=America/Denver:20290321T103000
DTEND;TZID=America/Denver:20290321T110000
LOCATION:200 South Cruse\, Helena\, MT 59601 US
SUMMARY:Chi Gong
END:VEVENT
END:VCALENDAR
