BEGIN:VCALENDAR
VERSION:2.0
PRODID:-//www.rmdc.net//NONSGML kigkonsult.se iCalcreator 2.30.10//
CALSCALE:GREGORIAN
METHOD:PUBLISH
UID:152be37f-a11c-46bc-a925-782c0fb559fa
X-WR-CALDESC:Join us for a gentle exercise class!
X-WR-RELCALID:932e64073cdc4945de2176ebe2c96b99
X-WR-TIMEZONE:America/Denver
BEGIN:VTIMEZONE
TZID:America/Denver
BEGIN:STANDARD
TZNAME:MST
DTSTART:20281105T020000
TZOFFSETFROM:-0600
TZOFFSETTO:-0700
RDATE:20291104T020000
END:STANDARD
BEGIN:DAYLIGHT
TZNAME:MDT
DTSTART:20290311T020000
TZOFFSETFROM:-0700
TZOFFSETTO:-0600
RDATE:20300310T020000
END:DAYLIGHT
END:VTIMEZONE
BEGIN:VEVENT
UID:cc68656d-5f12-4cf3-ad26-e3997b25ebd1
DTSTAMP:20260422T113128Z
DESCRIPTION:Join us for a gentle exercise class!
DTSTART;TZID=America/Denver:20290328T103000
DTEND;TZID=America/Denver:20290328T110000
LOCATION:200 South Cruse\, Helena\, MT 59601 US
SUMMARY:Chi Gong
END:VEVENT
END:VCALENDAR
