BEGIN:VCALENDAR
VERSION:2.0
PRODID:-//www.rmdc.net//NONSGML kigkonsult.se iCalcreator 2.30.10//
CALSCALE:GREGORIAN
METHOD:PUBLISH
UID:f75c810f-97be-4a18-bd31-603a29655bcf
X-WR-CALDESC:Learn how to use those pesky phones\, tablets\, and laptops in
  this tech-focused class hosted at the Neighborhood Center.
X-WR-RELCALID:e3e6ebff46d5afbb6cd8aa0b4fcfb2fa
X-WR-TIMEZONE:America/Denver
BEGIN:VTIMEZONE
TZID:America/Denver
BEGIN:STANDARD
TZNAME:MST
DTSTART:20281105T020000
TZOFFSETFROM:-0600
TZOFFSETTO:-0700
RDATE:20291104T020000
END:STANDARD
BEGIN:DAYLIGHT
TZNAME:MDT
DTSTART:20290311T020000
TZOFFSETFROM:-0700
TZOFFSETTO:-0600
RDATE:20300310T020000
END:DAYLIGHT
END:VTIMEZONE
BEGIN:VEVENT
UID:5a845636-f79e-43a6-9afb-d5c401d8830b
DTSTAMP:20260422T125058Z
DESCRIPTION:Learn how to use those pesky phones\, tablets\, and laptops in 
 this tech-focused class hosted at the Neighborhood Center.
DTSTART;TZID=America/Denver:20290402T123000
DTEND;TZID=America/Denver:20290402T133000
LOCATION:200 South Cruse\, Helena\, AL 59601 US
SUMMARY:How the Tech Does this this Work?
END:VEVENT
END:VCALENDAR
