BEGIN:VCALENDAR
VERSION:2.0
PRODID:-//www.rmdc.net//NONSGML kigkonsult.se iCalcreator 2.30.10//
CALSCALE:GREGORIAN
METHOD:PUBLISH
UID:961d8765-dc7d-4254-8c89-89cdc0e15a8f
X-WR-CALDESC:
X-WR-RELCALID:cc6984d269f510f1dea4d3433bc917b9
X-WR-TIMEZONE:America/Denver
BEGIN:VTIMEZONE
TZID:America/Denver
BEGIN:STANDARD
TZNAME:MST
DTSTART:20281105T020000
TZOFFSETFROM:-0600
TZOFFSETTO:-0700
RDATE:20291104T020000
END:STANDARD
BEGIN:DAYLIGHT
TZNAME:MDT
DTSTART:20290311T020000
TZOFFSETFROM:-0700
TZOFFSETTO:-0600
RDATE:20300310T020000
END:DAYLIGHT
END:VTIMEZONE
BEGIN:VEVENT
UID:89c7ec69-f51f-4424-9cbb-c4ab37c83998
DTSTAMP:20260422T130914Z
DESCRIPTION:
DTSTART;TZID=America/Denver:20290422T130000
DTEND;TZID=America/Denver:20290422T160000
LOCATION:
SUMMARY:Pinochle
END:VEVENT
END:VCALENDAR
