BEGIN:VCALENDAR
VERSION:2.0
PRODID:-//www.rmdc.net//NONSGML kigkonsult.se iCalcreator 2.30.10//
CALSCALE:GREGORIAN
METHOD:PUBLISH
UID:9c538dec-6de0-4386-b037-7384fd73e20c
X-WR-CALDESC:Join us for a gentle exercise class!
X-WR-RELCALID:09a6043a0aa108ae4c6127dd3a69d7b4
X-WR-TIMEZONE:America/Denver
BEGIN:VTIMEZONE
TZID:America/Denver
BEGIN:STANDARD
TZNAME:MST
DTSTART:20281105T020000
TZOFFSETFROM:-0600
TZOFFSETTO:-0700
RDATE:20291104T020000
END:STANDARD
BEGIN:DAYLIGHT
TZNAME:MDT
DTSTART:20290311T020000
TZOFFSETFROM:-0700
TZOFFSETTO:-0600
RDATE:20300310T020000
END:DAYLIGHT
END:VTIMEZONE
BEGIN:VEVENT
UID:6cfd128c-f96b-47bc-92ad-26a9fb03b5d4
DTSTAMP:20260422T130052Z
DESCRIPTION:Join us for a gentle exercise class!
DTSTART;TZID=America/Denver:20290425T103000
DTEND;TZID=America/Denver:20290425T110000
LOCATION:200 South Cruse\, Helena\, MT 59601 US
SUMMARY:Chi Gong
END:VEVENT
END:VCALENDAR
