BEGIN:VCALENDAR
VERSION:2.0
PRODID:-//www.rmdc.net//NONSGML kigkonsult.se iCalcreator 2.30.10//
CALSCALE:GREGORIAN
METHOD:PUBLISH
UID:f147d8c0-5334-4280-9916-457817f142e6
X-WR-CALDESC:
X-WR-RELCALID:8130e957e6976c69f8d40712e6f147b0
X-WR-TIMEZONE:America/Denver
BEGIN:VTIMEZONE
TZID:America/Denver
BEGIN:STANDARD
TZNAME:MST
DTSTART:20281105T020000
TZOFFSETFROM:-0600
TZOFFSETTO:-0700
RDATE:20291104T020000
END:STANDARD
BEGIN:DAYLIGHT
TZNAME:MDT
DTSTART:20290311T020000
TZOFFSETFROM:-0700
TZOFFSETTO:-0600
RDATE:20300310T020000
END:DAYLIGHT
END:VTIMEZONE
BEGIN:VEVENT
UID:4a3295b8-de46-4e0a-a0a5-2bf338462e9f
DTSTAMP:20260422T130907Z
DESCRIPTION:
DTSTART;TZID=America/Denver:20290429T130000
DTEND;TZID=America/Denver:20290429T160000
LOCATION:
SUMMARY:Pinochle
END:VEVENT
END:VCALENDAR
