BEGIN:VCALENDAR
VERSION:2.0
PRODID:-//www.rmdc.net//NONSGML kigkonsult.se iCalcreator 2.30.10//
CALSCALE:GREGORIAN
METHOD:PUBLISH
UID:d44c1bc6-7a23-4d48-9c09-cb613ddfd1f5
X-WR-CALDESC:
X-WR-RELCALID:74f83b3ebdcc4c18ea50a640f9772230
X-WR-TIMEZONE:America/Denver
BEGIN:VTIMEZONE
TZID:America/Denver
BEGIN:STANDARD
TZNAME:MST
DTSTART:20281105T020000
TZOFFSETFROM:-0600
TZOFFSETTO:-0700
RDATE:20291104T020000
END:STANDARD
BEGIN:DAYLIGHT
TZNAME:MDT
DTSTART:20290311T020000
TZOFFSETFROM:-0700
TZOFFSETTO:-0600
RDATE:20300310T020000
END:DAYLIGHT
END:VTIMEZONE
BEGIN:VEVENT
UID:ca2b1b12-c30a-4e33-8faf-2ac58ce4ff15
DTSTAMP:20260422T142403Z
DESCRIPTION:
DTSTART;TZID=America/Denver:20290502T130000
DTEND;TZID=America/Denver:20290502T150000
LOCATION:Dining Room
SUMMARY:Bingo
END:VEVENT
END:VCALENDAR
