BEGIN:VCALENDAR
VERSION:2.0
PRODID:-//www.rmdc.net//NONSGML kigkonsult.se iCalcreator 2.30.10//
CALSCALE:GREGORIAN
METHOD:PUBLISH
UID:d980a156-20b0-4c36-8a75-0b31a62ae991
X-WR-CALDESC:Join us for a gentle exercise class!
X-WR-RELCALID:6cdb7e4b4c8ba179087a83869186f0c3
X-WR-TIMEZONE:America/Denver
BEGIN:VTIMEZONE
TZID:America/Denver
BEGIN:STANDARD
TZNAME:MST
DTSTART:20281105T020000
TZOFFSETFROM:-0600
TZOFFSETTO:-0700
RDATE:20291104T020000
RDATE:20301103T020000
END:STANDARD
BEGIN:DAYLIGHT
TZNAME:MDT
DTSTART:20290311T020000
TZOFFSETFROM:-0700
TZOFFSETTO:-0600
RDATE:20300310T020000
END:DAYLIGHT
END:VTIMEZONE
BEGIN:VEVENT
UID:fc7a4ea8-5116-4442-805a-a0102e5b5da7
DTSTAMP:20260422T142420Z
DESCRIPTION:Join us for a gentle exercise class!
DTSTART;TZID=America/Denver:20290509T103000
DTEND;TZID=America/Denver:20290509T110000
LOCATION:200 South Cruse\, Helena\, MT 59601 US
SUMMARY:Chi Gong
END:VEVENT
END:VCALENDAR
