BEGIN:VCALENDAR
VERSION:2.0
PRODID:-//www.rmdc.net//NONSGML kigkonsult.se iCalcreator 2.30.10//
CALSCALE:GREGORIAN
METHOD:PUBLISH
UID:20c63b4b-8b79-4a60-aed9-1df709abdf91
X-WR-CALDESC:
X-WR-RELCALID:736034a40e98ce24a243f9a768678b36
X-WR-TIMEZONE:America/Denver
BEGIN:VTIMEZONE
TZID:America/Denver
BEGIN:STANDARD
TZNAME:MST
DTSTART:20281105T020000
TZOFFSETFROM:-0600
TZOFFSETTO:-0700
RDATE:20291104T020000
RDATE:20301103T020000
END:STANDARD
BEGIN:DAYLIGHT
TZNAME:MDT
DTSTART:20290311T020000
TZOFFSETFROM:-0700
TZOFFSETTO:-0600
RDATE:20300310T020000
END:DAYLIGHT
END:VTIMEZONE
BEGIN:VEVENT
UID:711ac96a-996b-459b-9501-303d5df861b8
DTSTAMP:20260422T142807Z
DESCRIPTION:
DTSTART;TZID=America/Denver:20290529T130000
DTEND;TZID=America/Denver:20290529T160000
LOCATION:
SUMMARY:Pinochle
END:VEVENT
END:VCALENDAR
