BEGIN:VCALENDAR
VERSION:2.0
PRODID:-//www.rmdc.net//NONSGML kigkonsult.se iCalcreator 2.30.10//
CALSCALE:GREGORIAN
METHOD:PUBLISH
UID:c5204ae6-3eaa-49b4-a7bc-b9608067271d
X-WR-CALDESC:Join us for a gentle exercise class!
X-WR-RELCALID:74a0b76daed9044fc9bf358a4080a0bf
X-WR-TIMEZONE:America/Denver
BEGIN:VTIMEZONE
TZID:America/Denver
BEGIN:STANDARD
TZNAME:MST
DTSTART:20281105T020000
TZOFFSETFROM:-0600
TZOFFSETTO:-0700
RDATE:20291104T020000
RDATE:20301103T020000
END:STANDARD
BEGIN:DAYLIGHT
TZNAME:MDT
DTSTART:20290311T020000
TZOFFSETFROM:-0700
TZOFFSETTO:-0600
RDATE:20300310T020000
END:DAYLIGHT
END:VTIMEZONE
BEGIN:VEVENT
UID:fe1dd60e-60d1-4e09-9e9f-660a84af5681
DTSTAMP:20260422T142642Z
DESCRIPTION:Join us for a gentle exercise class!
DTSTART;TZID=America/Denver:20290530T103000
DTEND;TZID=America/Denver:20290530T110000
LOCATION:200 South Cruse\, Helena\, MT 59601 US
SUMMARY:Chi Gong
END:VEVENT
END:VCALENDAR
