BEGIN:VCALENDAR
VERSION:2.0
PRODID:-//www.rmdc.net//NONSGML kigkonsult.se iCalcreator 2.30.10//
CALSCALE:GREGORIAN
METHOD:PUBLISH
UID:a8f4bf77-a3a4-4738-89ad-26c1150124a1
X-WR-CALDESC:
X-WR-RELCALID:fa243fdfe981e4c8f5945aca78a27c0c
X-WR-TIMEZONE:America/Denver
BEGIN:VTIMEZONE
TZID:America/Denver
BEGIN:STANDARD
TZNAME:MST
DTSTART:20281105T020000
TZOFFSETFROM:-0600
TZOFFSETTO:-0700
RDATE:20291104T020000
RDATE:20301103T020000
END:STANDARD
BEGIN:DAYLIGHT
TZNAME:MDT
DTSTART:20290311T020000
TZOFFSETFROM:-0700
TZOFFSETTO:-0600
RDATE:20300310T020000
END:DAYLIGHT
END:VTIMEZONE
BEGIN:VEVENT
UID:975b387e-a89e-4683-a415-9fae5971518a
DTSTAMP:20260422T165601Z
DESCRIPTION:
DTSTART;TZID=America/Denver:20290617T130000
DTEND;TZID=America/Denver:20290617T160000
LOCATION:
SUMMARY:Pinochle
END:VEVENT
END:VCALENDAR
