BEGIN:VCALENDAR
VERSION:2.0
PRODID:-//www.rmdc.net//NONSGML kigkonsult.se iCalcreator 2.30.10//
CALSCALE:GREGORIAN
METHOD:PUBLISH
UID:bf4d1f5e-b951-4ffc-a4fd-51c5560cc6a8
X-WR-CALDESC:
X-WR-RELCALID:75bf7e48f37d04c2bc9fc4f2054b749f
X-WR-TIMEZONE:America/Denver
BEGIN:VTIMEZONE
TZID:America/Denver
BEGIN:STANDARD
TZNAME:MST
DTSTART:20281105T020000
TZOFFSETFROM:-0600
TZOFFSETTO:-0700
RDATE:20291104T020000
RDATE:20301103T020000
END:STANDARD
BEGIN:DAYLIGHT
TZNAME:MDT
DTSTART:20290311T020000
TZOFFSETFROM:-0700
TZOFFSETTO:-0600
RDATE:20300310T020000
END:DAYLIGHT
END:VTIMEZONE
BEGIN:VEVENT
UID:a5faab4f-9467-44a8-b9f4-736d6838687e
DTSTAMP:20260422T154357Z
DESCRIPTION:
DTSTART;TZID=America/Denver:20290626T130000
DTEND;TZID=America/Denver:20290626T160000
LOCATION:
SUMMARY:Pinochle
END:VEVENT
END:VCALENDAR
