BEGIN:VCALENDAR
VERSION:2.0
PRODID:-//www.rmdc.net//NONSGML kigkonsult.se iCalcreator 2.30.10//
CALSCALE:GREGORIAN
METHOD:PUBLISH
UID:4ad7f0b4-4b7e-4f7f-8a22-b24256fd53c1
X-WR-CALDESC:
X-WR-RELCALID:9e69ee8254febdc2a13dae583eda898c
X-WR-TIMEZONE:America/Denver
BEGIN:VTIMEZONE
TZID:America/Denver
BEGIN:STANDARD
TZNAME:MST
DTSTART:20281105T020000
TZOFFSETFROM:-0600
TZOFFSETTO:-0700
RDATE:20291104T020000
RDATE:20301103T020000
END:STANDARD
BEGIN:DAYLIGHT
TZNAME:MDT
DTSTART:20290311T020000
TZOFFSETFROM:-0700
TZOFFSETTO:-0600
RDATE:20300310T020000
END:DAYLIGHT
END:VTIMEZONE
BEGIN:VEVENT
UID:5669879b-62fe-4a25-9cfb-08d67d526103
DTSTAMP:20260422T165701Z
DESCRIPTION:
DTSTART;TZID=America/Denver:20290703T130000
DTEND;TZID=America/Denver:20290703T160000
LOCATION:
SUMMARY:Pinochle
END:VEVENT
END:VCALENDAR
