BEGIN:VCALENDAR
VERSION:2.0
PRODID:-//www.rmdc.net//NONSGML kigkonsult.se iCalcreator 2.30.10//
CALSCALE:GREGORIAN
METHOD:PUBLISH
UID:14573bb7-5e30-4171-a756-62a4d9590565
X-WR-CALDESC:Join us for a gentle exercise class!
X-WR-RELCALID:8930cbbcf578ce4a9b0d5d7ac3141613
X-WR-TIMEZONE:America/Denver
BEGIN:VTIMEZONE
TZID:America/Denver
BEGIN:STANDARD
TZNAME:MST
DTSTART:20281105T020000
TZOFFSETFROM:-0600
TZOFFSETTO:-0700
RDATE:20291104T020000
RDATE:20301103T020000
END:STANDARD
BEGIN:DAYLIGHT
TZNAME:MDT
DTSTART:20290311T020000
TZOFFSETFROM:-0700
TZOFFSETTO:-0600
RDATE:20300310T020000
END:DAYLIGHT
END:VTIMEZONE
BEGIN:VEVENT
UID:481e1a9c-6238-458b-b70d-6b48824a8604
DTSTAMP:20260424T094956Z
DESCRIPTION:Join us for a gentle exercise class!
DTSTART;TZID=America/Denver:20290704T103000
DTEND;TZID=America/Denver:20290704T110000
LOCATION:200 South Cruse\, Helena\, MT 59601 US
SUMMARY:Chi Gong
END:VEVENT
END:VCALENDAR
