BEGIN:VCALENDAR
VERSION:2.0
PRODID:-//www.rmdc.net//NONSGML kigkonsult.se iCalcreator 2.30.10//
CALSCALE:GREGORIAN
METHOD:PUBLISH
UID:9a1454f1-7d45-4a05-bea5-fed547fa7896
X-WR-CALDESC:
X-WR-RELCALID:342589f939dc7d741e82b6a1a5b238e4
X-WR-TIMEZONE:America/Denver
BEGIN:VTIMEZONE
TZID:America/Denver
BEGIN:STANDARD
TZNAME:MST
DTSTART:20281105T020000
TZOFFSETFROM:-0600
TZOFFSETTO:-0700
RDATE:20291104T020000
RDATE:20301103T020000
END:STANDARD
BEGIN:DAYLIGHT
TZNAME:MDT
DTSTART:20290311T020000
TZOFFSETFROM:-0700
TZOFFSETTO:-0600
RDATE:20300310T020000
END:DAYLIGHT
END:VTIMEZONE
BEGIN:VEVENT
UID:3c8cae6d-de81-4920-b1e1-f0347a9167c8
DTSTAMP:20260422T181415Z
DESCRIPTION:
DTSTART;TZID=America/Denver:20290708T130000
DTEND;TZID=America/Denver:20290708T160000
LOCATION:
SUMMARY:Pinochle
END:VEVENT
END:VCALENDAR
