BEGIN:VCALENDAR
VERSION:2.0
PRODID:-//www.rmdc.net//NONSGML kigkonsult.se iCalcreator 2.30.10//
CALSCALE:GREGORIAN
METHOD:PUBLISH
UID:1b238a4d-5d74-45d4-b25c-26f73951830e
X-WR-CALDESC:Join us for a gentle exercise class!
X-WR-RELCALID:acb8160fef4bef73e060f2325f632ce3
X-WR-TIMEZONE:America/Denver
BEGIN:VTIMEZONE
TZID:America/Denver
BEGIN:STANDARD
TZNAME:MST
DTSTART:20281105T020000
TZOFFSETFROM:-0600
TZOFFSETTO:-0700
RDATE:20291104T020000
RDATE:20301103T020000
END:STANDARD
BEGIN:DAYLIGHT
TZNAME:MDT
DTSTART:20290311T020000
TZOFFSETFROM:-0700
TZOFFSETTO:-0600
RDATE:20300310T020000
END:DAYLIGHT
END:VTIMEZONE
BEGIN:VEVENT
UID:fc536bad-2f39-4c40-8c0e-a9728c7b7c80
DTSTAMP:20260422T181333Z
DESCRIPTION:Join us for a gentle exercise class!
DTSTART;TZID=America/Denver:20290711T103000
DTEND;TZID=America/Denver:20290711T110000
LOCATION:200 South Cruse\, Helena\, MT 59601 US
SUMMARY:Chi Gong
END:VEVENT
END:VCALENDAR
