BEGIN:VCALENDAR
VERSION:2.0
PRODID:-//www.rmdc.net//NONSGML kigkonsult.se iCalcreator 2.30.10//
CALSCALE:GREGORIAN
METHOD:PUBLISH
UID:80685666-52ed-4ec3-9c09-e02e31a35afe
X-WR-CALDESC:
X-WR-RELCALID:c521634a44f95328d33080937e7ed00d
X-WR-TIMEZONE:America/Denver
BEGIN:VTIMEZONE
TZID:America/Denver
BEGIN:STANDARD
TZNAME:MST
DTSTART:20281105T020000
TZOFFSETFROM:-0600
TZOFFSETTO:-0700
RDATE:20291104T020000
RDATE:20301103T020000
END:STANDARD
BEGIN:DAYLIGHT
TZNAME:MDT
DTSTART:20290311T020000
TZOFFSETFROM:-0700
TZOFFSETTO:-0600
RDATE:20300310T020000
END:DAYLIGHT
END:VTIMEZONE
BEGIN:VEVENT
UID:109054f7-7326-4f17-8867-2155bc2e0221
DTSTAMP:20260424T093742Z
DESCRIPTION:
DTSTART;TZID=America/Denver:20290715T130000
DTEND;TZID=America/Denver:20290715T160000
LOCATION:
SUMMARY:Pinochle
END:VEVENT
END:VCALENDAR
