BEGIN:VCALENDAR
VERSION:2.0
PRODID:-//www.rmdc.net//NONSGML kigkonsult.se iCalcreator 2.30.10//
CALSCALE:GREGORIAN
METHOD:PUBLISH
UID:4310df29-4a2d-49be-9f7a-df9e12f842d4
X-WR-CALDESC:
X-WR-RELCALID:25bf41166a631cafc40f1b550c21a095
X-WR-TIMEZONE:America/Denver
BEGIN:VTIMEZONE
TZID:America/Denver
BEGIN:STANDARD
TZNAME:MST
DTSTART:20281105T020000
TZOFFSETFROM:-0600
TZOFFSETTO:-0700
RDATE:20291104T020000
RDATE:20301103T020000
END:STANDARD
BEGIN:DAYLIGHT
TZNAME:MDT
DTSTART:20290311T020000
TZOFFSETFROM:-0700
TZOFFSETTO:-0600
RDATE:20300310T020000
END:DAYLIGHT
END:VTIMEZONE
BEGIN:VEVENT
UID:48f981e4-bd5f-4162-b0e2-f3582a6711de
DTSTAMP:20260422T171954Z
DESCRIPTION:
DTSTART;TZID=America/Denver:20290730T103000
DTEND;TZID=America/Denver:20290730T111500
LOCATION:Neighborhood Center Card Room
SUMMARY:Jennie's Arthritis Foundation Exercise Class
END:VEVENT
END:VCALENDAR
