BEGIN:VCALENDAR
VERSION:2.0
PRODID:-//www.rmdc.net//NONSGML kigkonsult.se iCalcreator 2.30.10//
CALSCALE:GREGORIAN
METHOD:PUBLISH
UID:d80e090b-5477-4cc1-b612-88fd43aa4456
X-WR-CALDESC:Join us for a gentle exercise class!
X-WR-RELCALID:229a998ae0b265c00224e91e795e8204
X-WR-TIMEZONE:America/Denver
BEGIN:VTIMEZONE
TZID:America/Denver
BEGIN:STANDARD
TZNAME:MST
DTSTART:20281105T020000
TZOFFSETFROM:-0600
TZOFFSETTO:-0700
RDATE:20291104T020000
RDATE:20301103T020000
END:STANDARD
BEGIN:DAYLIGHT
TZNAME:MDT
DTSTART:20290311T020000
TZOFFSETFROM:-0700
TZOFFSETTO:-0600
RDATE:20300310T020000
RDATE:20310309T020000
END:DAYLIGHT
END:VTIMEZONE
BEGIN:VEVENT
UID:6ec3296f-1eb3-4372-b47b-33208e5cb3ca
DTSTAMP:20260422T211430Z
DESCRIPTION:Join us for a gentle exercise class!
DTSTART;TZID=America/Denver:20290926T103000
DTEND;TZID=America/Denver:20290926T110000
LOCATION:200 South Cruse\, Helena\, MT 59601 US
SUMMARY:Chi Gong
END:VEVENT
END:VCALENDAR
