BEGIN:VCALENDAR
VERSION:2.0
PRODID:-//www.rmdc.net//NONSGML kigkonsult.se iCalcreator 2.30.10//
CALSCALE:GREGORIAN
METHOD:PUBLISH
UID:3c0fb6ed-258d-424b-9a77-26bad791591c
X-WR-CALDESC:
X-WR-RELCALID:13a4c74f4e280964cf102cb9b2b2637d
X-WR-TIMEZONE:America/Denver
BEGIN:VTIMEZONE
TZID:America/Denver
BEGIN:STANDARD
TZNAME:MST
DTSTART:20281105T020000
TZOFFSETFROM:-0600
TZOFFSETTO:-0700
RDATE:20291104T020000
RDATE:20301103T020000
END:STANDARD
BEGIN:DAYLIGHT
TZNAME:MDT
DTSTART:20290311T020000
TZOFFSETFROM:-0700
TZOFFSETTO:-0600
RDATE:20300310T020000
RDATE:20310309T020000
END:DAYLIGHT
END:VTIMEZONE
BEGIN:VEVENT
UID:b71e271c-fa32-4f9f-b8e2-14ce57eb453f
DTSTAMP:20260422T211443Z
DESCRIPTION:
DTSTART;TZID=America/Denver:20290930T130000
DTEND;TZID=America/Denver:20290930T160000
LOCATION:
SUMMARY:Pinochle
END:VEVENT
END:VCALENDAR
