BEGIN:VCALENDAR
VERSION:2.0
PRODID:-//www.rmdc.net//NONSGML kigkonsult.se iCalcreator 2.30.10//
CALSCALE:GREGORIAN
METHOD:PUBLISH
UID:9df5e5c0-e1fe-4cf6-9336-ca88cbc95e30
X-WR-CALDESC:The first Wednesday the Senior Advisory Council holds a monthl
 y meeting from 9:30 am to 10:30 am. If you are interested in becoming a me
 mber of the Senior Advisory Council contact Bill Péna at Bpena@rmdc.net or
  by phone at 406-457-7372.
X-WR-RELCALID:a6f52f4753fe43b2dd0d9c219197eaa9
X-WR-TIMEZONE:America/Denver
BEGIN:VTIMEZONE
TZID:America/Denver
BEGIN:STANDARD
TZNAME:MST
DTSTART:20281105T020000
TZOFFSETFROM:-0600
TZOFFSETTO:-0700
RDATE:20291104T020000
RDATE:20301103T020000
END:STANDARD
BEGIN:DAYLIGHT
TZNAME:MDT
DTSTART:20290311T020000
TZOFFSETFROM:-0700
TZOFFSETTO:-0600
RDATE:20300310T020000
RDATE:20310309T020000
END:DAYLIGHT
END:VTIMEZONE
BEGIN:VEVENT
UID:66cc6e24-0c42-42c4-9551-e844cff2e477
DTSTAMP:20260422T230102Z
DESCRIPTION:The first Wednesday the Senior Advisory Council holds a monthly
  meeting from 9:30 am to 10:30 am. If you are interested in becoming a mem
 ber of the Senior Advisory Council contact Bill Péna at Bpena@rmdc.net or 
 by phone at 406-457-7372.
DTSTART;TZID=America/Denver:20291003T093000
DTEND;TZID=America/Denver:20291003T103000
LOCATION:200 South Cruse\, Helena\, MT 59601 US
SUMMARY:Senior Advisory Council Meeting
END:VEVENT
END:VCALENDAR
