BEGIN:VCALENDAR
VERSION:2.0
PRODID:-//www.rmdc.net//NONSGML kigkonsult.se iCalcreator 2.30.10//
CALSCALE:GREGORIAN
METHOD:PUBLISH
UID:6bba3447-92e0-44e0-bb00-ef20904e76ec
X-WR-CALDESC:
X-WR-RELCALID:d7c3906b93f0f2654c8a88811c8ec5f3
X-WR-TIMEZONE:America/Denver
BEGIN:VTIMEZONE
TZID:America/Denver
BEGIN:STANDARD
TZNAME:MST
DTSTART:20281105T020000
TZOFFSETFROM:-0600
TZOFFSETTO:-0700
RDATE:20291104T020000
RDATE:20301103T020000
END:STANDARD
BEGIN:DAYLIGHT
TZNAME:MDT
DTSTART:20290311T020000
TZOFFSETFROM:-0700
TZOFFSETTO:-0600
RDATE:20300310T020000
RDATE:20310309T020000
END:DAYLIGHT
END:VTIMEZONE
BEGIN:VEVENT
UID:373a09c9-9685-4889-9473-52d195cfb0df
DTSTAMP:20260422T224505Z
DESCRIPTION:
DTSTART;TZID=America/Denver:20291016T130000
DTEND;TZID=America/Denver:20291016T160000
LOCATION:
SUMMARY:Pinochle
END:VEVENT
END:VCALENDAR
