BEGIN:VCALENDAR
VERSION:2.0
PRODID:-//www.rmdc.net//NONSGML kigkonsult.se iCalcreator 2.30.10//
CALSCALE:GREGORIAN
METHOD:PUBLISH
UID:3bf17be9-f307-4010-9bbb-91d19befc1a1
X-WR-CALDESC:This is a FREE class where you can preserve memories and creat
 e works of art through scrapbooking. This class is open to the public\, an
 d all materials are provided.
X-WR-RELCALID:fdff1b4d67ef9ffe8abb016f6f846f25
X-WR-TIMEZONE:America/Denver
BEGIN:VTIMEZONE
TZID:America/Denver
BEGIN:STANDARD
TZNAME:MST
DTSTART:20281105T020000
TZOFFSETFROM:-0600
TZOFFSETTO:-0700
RDATE:20291104T020000
RDATE:20301103T020000
END:STANDARD
BEGIN:DAYLIGHT
TZNAME:MDT
DTSTART:20290311T020000
TZOFFSETFROM:-0700
TZOFFSETTO:-0600
RDATE:20300310T020000
RDATE:20310309T020000
END:DAYLIGHT
END:VTIMEZONE
BEGIN:VEVENT
UID:52a3d3a9-c3fb-43ad-b87d-bb140e2c6104
DTSTAMP:20260422T224455Z
DESCRIPTION:This is a FREE class where you can preserve memories and create
  works of art through scrapbooking. This class is open to the public\, and
  all materials are provided.
DTSTART;TZID=America/Denver:20291018T040000
DTEND;TZID=America/Denver:20291018T040001
LOCATION:200 South Cruse\, Helena\, AL 59601 US
SUMMARY:Scrapbooking with JoJo
END:VEVENT
END:VCALENDAR
