BEGIN:VCALENDAR
VERSION:2.0
PRODID:-//www.rmdc.net//NONSGML kigkonsult.se iCalcreator 2.30.10//
CALSCALE:GREGORIAN
METHOD:PUBLISH
UID:ffdc9297-4406-4ed1-b94f-e9317c910445
X-WR-CALDESC:
X-WR-RELCALID:ef6729e0f5ebe5c534f885ead95d2ced
X-WR-TIMEZONE:America/Denver
BEGIN:VTIMEZONE
TZID:America/Denver
BEGIN:STANDARD
TZNAME:MST
DTSTART:20291104T020000
TZOFFSETFROM:-0600
TZOFFSETTO:-0700
RDATE:20301103T020000
END:STANDARD
BEGIN:DAYLIGHT
TZNAME:MDT
DTSTART:20290311T020000
TZOFFSETFROM:-0700
TZOFFSETTO:-0600
RDATE:20300310T020000
RDATE:20310309T020000
END:DAYLIGHT
END:VTIMEZONE
BEGIN:VEVENT
UID:5ccce7d8-86fd-4944-a39c-a34512a44281
DTSTAMP:20260423T000638Z
DESCRIPTION:
DTSTART;TZID=America/Denver:20291106T130000
DTEND;TZID=America/Denver:20291106T160000
LOCATION:
SUMMARY:Pinochle
END:VEVENT
END:VCALENDAR
