BEGIN:VCALENDAR
VERSION:2.0
PRODID:-//www.rmdc.net//NONSGML kigkonsult.se iCalcreator 2.30.10//
CALSCALE:GREGORIAN
METHOD:PUBLISH
UID:ddb12ade-560d-4a12-988f-7acce3c1942b
X-WR-CALDESC:Meet with Ann\, a representative from Montana Generational Jus
 tice\, for a free consultation on estate planning. \n \nAnn can be found i
 n the Neighborhood Center Dining Room on the second Wednesday of each mont
 h from 11:30 am to 12:30 pm. \n \n
X-WR-RELCALID:0871114171fff30207eec866132f2e3c
X-WR-TIMEZONE:America/Denver
BEGIN:VTIMEZONE
TZID:America/Denver
BEGIN:STANDARD
TZNAME:MST
DTSTART:20291104T020000
TZOFFSETFROM:-0600
TZOFFSETTO:-0700
RDATE:20301103T020000
END:STANDARD
BEGIN:DAYLIGHT
TZNAME:MDT
DTSTART:20290311T020000
TZOFFSETFROM:-0700
TZOFFSETTO:-0600
RDATE:20300310T020000
RDATE:20310309T020000
END:DAYLIGHT
END:VTIMEZONE
BEGIN:VEVENT
UID:85595571-cf79-483b-90dd-3d02671394f0
DTSTAMP:20260423T001013Z
DESCRIPTION:Meet with Ann\, a representative from Montana Generational Just
 ice\, for a free consultation on estate planning. \n \nAnn can be found in
  the Neighborhood Center Dining Room on the second Wednesday of each month
  from 11:30 am to 12:30 pm. \n \n
DTSTART;TZID=America/Denver:20291114T110000
DTEND;TZID=America/Denver:20291114T123000
LOCATION:200 South Cruse\, Helena\, AL 59601 US
SUMMARY:Estate Planning with Ann
END:VEVENT
END:VCALENDAR
