BEGIN:VCALENDAR
VERSION:2.0
PRODID:-//www.rmdc.net//NONSGML kigkonsult.se iCalcreator 2.30.10//
CALSCALE:GREGORIAN
METHOD:PUBLISH
UID:79436957-00c1-4f83-939e-4dd10789b8a0
X-WR-CALDESC:
X-WR-RELCALID:91095ac8fcf5385fbc673a3364618f63
X-WR-TIMEZONE:America/Denver
BEGIN:VTIMEZONE
TZID:America/Denver
BEGIN:STANDARD
TZNAME:MST
DTSTART:20291104T020000
TZOFFSETFROM:-0600
TZOFFSETTO:-0700
RDATE:20301103T020000
END:STANDARD
BEGIN:DAYLIGHT
TZNAME:MDT
DTSTART:20290311T020000
TZOFFSETFROM:-0700
TZOFFSETTO:-0600
RDATE:20300310T020000
RDATE:20310309T020000
END:DAYLIGHT
END:VTIMEZONE
BEGIN:VEVENT
UID:84df5005-06e0-41bc-84c2-6cc7e9348943
DTSTAMP:20260423T000738Z
DESCRIPTION:
DTSTART;TZID=America/Denver:20291120T130000
DTEND;TZID=America/Denver:20291120T160000
LOCATION:
SUMMARY:Pinochle
END:VEVENT
END:VCALENDAR
