BEGIN:VCALENDAR
VERSION:2.0
PRODID:-//www.rmdc.net//NONSGML kigkonsult.se iCalcreator 2.30.10//
CALSCALE:GREGORIAN
METHOD:PUBLISH
UID:d22cd115-2dcd-4851-b043-bd69fb1323b0
X-WR-CALDESC:Join us for a gentle exercise class!
X-WR-RELCALID:5131b33cdecfbd451ee199469634c340
X-WR-TIMEZONE:America/Denver
BEGIN:VTIMEZONE
TZID:America/Denver
BEGIN:STANDARD
TZNAME:MST
DTSTART:20291104T020000
TZOFFSETFROM:-0600
TZOFFSETTO:-0700
RDATE:20301103T020000
END:STANDARD
BEGIN:DAYLIGHT
TZNAME:MDT
DTSTART:20290311T020000
TZOFFSETFROM:-0700
TZOFFSETTO:-0600
RDATE:20300310T020000
RDATE:20310309T020000
END:DAYLIGHT
END:VTIMEZONE
BEGIN:VEVENT
UID:2516eb0e-89d3-4a6a-8f0b-4e1d6a2ffb3e
DTSTAMP:20260423T000511Z
DESCRIPTION:Join us for a gentle exercise class!
DTSTART;TZID=America/Denver:20291121T103000
DTEND;TZID=America/Denver:20291121T110000
LOCATION:200 South Cruse\, Helena\, MT 59601 US
SUMMARY:Chi Gong
END:VEVENT
END:VCALENDAR
