BEGIN:VCALENDAR
VERSION:2.0
PRODID:-//www.rmdc.net//NONSGML kigkonsult.se iCalcreator 2.30.10//
CALSCALE:GREGORIAN
METHOD:PUBLISH
UID:06ef0c2a-8039-464d-be20-6a63d69b22ac
X-WR-CALDESC:
X-WR-RELCALID:e46e2396678a46f75013c7bea2d201f0
X-WR-TIMEZONE:America/Denver
BEGIN:VTIMEZONE
TZID:America/Denver
BEGIN:STANDARD
TZNAME:MST
DTSTART:20291104T020000
TZOFFSETFROM:-0600
TZOFFSETTO:-0700
RDATE:20301103T020000
END:STANDARD
BEGIN:DAYLIGHT
TZNAME:MDT
DTSTART:20290311T020000
TZOFFSETFROM:-0700
TZOFFSETTO:-0600
RDATE:20300310T020000
RDATE:20310309T020000
END:DAYLIGHT
END:VTIMEZONE
BEGIN:VEVENT
UID:42710d27-c353-46af-89c7-d08deee9ead9
DTSTAMP:20260423T000609Z
DESCRIPTION:
DTSTART;TZID=America/Denver:20291125T130000
DTEND;TZID=America/Denver:20291125T160000
LOCATION:
SUMMARY:Pinochle
END:VEVENT
END:VCALENDAR
