BEGIN:VCALENDAR
VERSION:2.0
PRODID:-//www.rmdc.net//NONSGML kigkonsult.se iCalcreator 2.30.10//
CALSCALE:GREGORIAN
METHOD:PUBLISH
UID:fff3d5f7-71e8-4fb8-a2bd-58860cb9e0c9
X-WR-CALDESC:Join us for a gentle exercise class!
X-WR-RELCALID:eda59e543fe4c47a379ac0ce82a541d6
X-WR-TIMEZONE:America/Denver
BEGIN:VTIMEZONE
TZID:America/Denver
BEGIN:STANDARD
TZNAME:MST
DTSTART:20291104T020000
TZOFFSETFROM:-0600
TZOFFSETTO:-0700
RDATE:20301103T020000
END:STANDARD
BEGIN:DAYLIGHT
TZNAME:MDT
DTSTART:20290311T020000
TZOFFSETFROM:-0700
TZOFFSETTO:-0600
RDATE:20300310T020000
RDATE:20310309T020000
END:DAYLIGHT
END:VTIMEZONE
BEGIN:VEVENT
UID:39c1c549-aae0-4cbe-b862-0f7ea6342d79
DTSTAMP:20260423T000543Z
DESCRIPTION:Join us for a gentle exercise class!
DTSTART;TZID=America/Denver:20291128T103000
DTEND;TZID=America/Denver:20291128T110000
LOCATION:200 South Cruse\, Helena\, MT 59601 US
SUMMARY:Chi Gong
END:VEVENT
END:VCALENDAR
