BEGIN:VCALENDAR
VERSION:2.0
PRODID:-//www.rmdc.net//NONSGML kigkonsult.se iCalcreator 2.30.10//
CALSCALE:GREGORIAN
METHOD:PUBLISH
UID:b0bf425a-9f57-4831-be9e-e3fd3f5d1683
X-WR-CALDESC:Learn how to use those pesky phones\, tablets\, and laptops in
  this tech-focused class hosted at the Neighborhood Center.
X-WR-RELCALID:554f91c40204895908bc832edfe6085f
X-WR-TIMEZONE:America/Denver
BEGIN:VTIMEZONE
TZID:America/Denver
BEGIN:STANDARD
TZNAME:MST
DTSTART:20291104T020000
TZOFFSETFROM:-0600
TZOFFSETTO:-0700
RDATE:20301103T020000
END:STANDARD
BEGIN:DAYLIGHT
TZNAME:MDT
DTSTART:20290311T020000
TZOFFSETFROM:-0700
TZOFFSETTO:-0600
RDATE:20300310T020000
RDATE:20310309T020000
END:DAYLIGHT
END:VTIMEZONE
BEGIN:VEVENT
UID:c268de49-97a2-4548-8b8a-728c007729a6
DTSTAMP:20260423T013719Z
DESCRIPTION:Learn how to use those pesky phones\, tablets\, and laptops in 
 this tech-focused class hosted at the Neighborhood Center.
DTSTART;TZID=America/Denver:20291210T123000
DTEND;TZID=America/Denver:20291210T133000
LOCATION:200 South Cruse\, Helena\, AL 59601 US
SUMMARY:How the Tech Does this this Work?
END:VEVENT
END:VCALENDAR
