BEGIN:VCALENDAR
VERSION:2.0
PRODID:-//www.rmdc.net//NONSGML kigkonsult.se iCalcreator 2.30.10//
CALSCALE:GREGORIAN
METHOD:PUBLISH
UID:0e5b3416-8f98-4ab5-a9a4-dfd94551634b
X-WR-CALDESC:Join us for a gentle exercise class!
X-WR-RELCALID:b8440f63db4842f8a9d9321129542559
X-WR-TIMEZONE:America/Denver
BEGIN:VTIMEZONE
TZID:America/Denver
BEGIN:STANDARD
TZNAME:MST
DTSTART:20291104T020000
TZOFFSETFROM:-0600
TZOFFSETTO:-0700
RDATE:20301103T020000
END:STANDARD
BEGIN:DAYLIGHT
TZNAME:MDT
DTSTART:20290311T020000
TZOFFSETFROM:-0700
TZOFFSETTO:-0600
RDATE:20300310T020000
RDATE:20310309T020000
END:DAYLIGHT
END:VTIMEZONE
BEGIN:VEVENT
UID:5a10ed92-905d-492e-a7de-7a1b4e734d3a
DTSTAMP:20260423T031015Z
DESCRIPTION:Join us for a gentle exercise class!
DTSTART;TZID=America/Denver:20300102T103000
DTEND;TZID=America/Denver:20300102T110000
LOCATION:200 South Cruse\, Helena\, MT 59601 US
SUMMARY:Chi Gong
END:VEVENT
END:VCALENDAR
