BEGIN:VCALENDAR
VERSION:2.0
PRODID:-//www.rmdc.net//NONSGML kigkonsult.se iCalcreator 2.30.10//
CALSCALE:GREGORIAN
METHOD:PUBLISH
UID:4d7e06d3-12d2-428d-ba65-2b16239cd124
X-WR-CALDESC:
X-WR-RELCALID:06bfb623efc116d50497ec6fe73fd012
X-WR-TIMEZONE:America/Denver
BEGIN:VTIMEZONE
TZID:America/Denver
BEGIN:STANDARD
TZNAME:MST
DTSTART:20291104T020000
TZOFFSETFROM:-0600
TZOFFSETTO:-0700
RDATE:20301103T020000
END:STANDARD
BEGIN:DAYLIGHT
TZNAME:MDT
DTSTART:20290311T020000
TZOFFSETFROM:-0700
TZOFFSETTO:-0600
RDATE:20300310T020000
RDATE:20310309T020000
END:DAYLIGHT
END:VTIMEZONE
BEGIN:VEVENT
UID:3da1323d-4ab9-4a6e-99f8-3d1aeda80aa0
DTSTAMP:20260423T031219Z
DESCRIPTION:
DTSTART;TZID=America/Denver:20300115T090000
DTEND;TZID=America/Denver:20300115T120000
LOCATION:Neighborhood Center Card Room
SUMMARY:Crafty Quilters
END:VEVENT
END:VCALENDAR
