BEGIN:VCALENDAR
VERSION:2.0
PRODID:-//www.rmdc.net//NONSGML kigkonsult.se iCalcreator 2.30.10//
CALSCALE:GREGORIAN
METHOD:PUBLISH
UID:fd6cfe42-396b-4f4b-bfa2-1a3f83b37851
X-WR-CALDESC:
X-WR-RELCALID:698127b2174c54fa51537abd8b46cf1c
X-WR-TIMEZONE:America/Denver
BEGIN:VTIMEZONE
TZID:America/Denver
BEGIN:STANDARD
TZNAME:MST
DTSTART:20291104T020000
TZOFFSETFROM:-0600
TZOFFSETTO:-0700
RDATE:20301103T020000
END:STANDARD
BEGIN:DAYLIGHT
TZNAME:MDT
DTSTART:20290311T020000
TZOFFSETFROM:-0700
TZOFFSETTO:-0600
RDATE:20300310T020000
RDATE:20310309T020000
END:DAYLIGHT
END:VTIMEZONE
BEGIN:VEVENT
UID:de3a0706-34bf-4829-8afd-24172cfe7c7e
DTSTAMP:20260423T031143Z
DESCRIPTION:
DTSTART;TZID=America/Denver:20300127T130000
DTEND;TZID=America/Denver:20300127T160000
LOCATION:
SUMMARY:Pinochle
END:VEVENT
END:VCALENDAR
