BEGIN:VCALENDAR
VERSION:2.0
PRODID:-//www.rmdc.net//NONSGML kigkonsult.se iCalcreator 2.30.10//
CALSCALE:GREGORIAN
METHOD:PUBLISH
UID:d0f2ed15-2940-4374-8bc1-de409a09f508
X-WR-CALDESC:Join us for a gentle exercise class!
X-WR-RELCALID:add0a5315859e8928e9da9d8453017ac
X-WR-TIMEZONE:America/Denver
BEGIN:VTIMEZONE
TZID:America/Denver
BEGIN:STANDARD
TZNAME:MST
DTSTART:20291104T020000
TZOFFSETFROM:-0600
TZOFFSETTO:-0700
RDATE:20301103T020000
END:STANDARD
BEGIN:DAYLIGHT
TZNAME:MDT
DTSTART:20290311T020000
TZOFFSETFROM:-0700
TZOFFSETTO:-0600
RDATE:20300310T020000
RDATE:20310309T020000
END:DAYLIGHT
END:VTIMEZONE
BEGIN:VEVENT
UID:a692ca4c-a69a-4a5a-86b7-1d527b9f9968
DTSTAMP:20260423T031015Z
DESCRIPTION:Join us for a gentle exercise class!
DTSTART;TZID=America/Denver:20300130T103000
DTEND;TZID=America/Denver:20300130T110000
LOCATION:200 South Cruse\, Helena\, MT 59601 US
SUMMARY:Chi Gong
END:VEVENT
END:VCALENDAR
