BEGIN:VCALENDAR
VERSION:2.0
PRODID:-//www.rmdc.net//NONSGML kigkonsult.se iCalcreator 2.30.10//
CALSCALE:GREGORIAN
METHOD:PUBLISH
UID:e67ed95c-b568-47ea-a9bc-b269d56219b6
X-WR-CALDESC:
X-WR-RELCALID:9fc1831a3d83a9653fba04c97530aaaa
X-WR-TIMEZONE:America/Denver
BEGIN:VTIMEZONE
TZID:America/Denver
BEGIN:STANDARD
TZNAME:MST
DTSTART:20291104T020000
TZOFFSETFROM:-0600
TZOFFSETTO:-0700
RDATE:20301103T020000
END:STANDARD
BEGIN:DAYLIGHT
TZNAME:MDT
DTSTART:20290311T020000
TZOFFSETFROM:-0700
TZOFFSETTO:-0600
RDATE:20300310T020000
RDATE:20310309T020000
END:DAYLIGHT
END:VTIMEZONE
BEGIN:VEVENT
UID:257add65-4d4b-477d-b663-070fdc3cb2f3
DTSTAMP:20260423T045125Z
DESCRIPTION:
DTSTART;TZID=America/Denver:20300205T090000
DTEND;TZID=America/Denver:20300205T120000
LOCATION:Neighborhood Center Card Room
SUMMARY:Crafty Quilters
END:VEVENT
END:VCALENDAR
