BEGIN:VCALENDAR
VERSION:2.0
PRODID:-//www.rmdc.net//NONSGML kigkonsult.se iCalcreator 2.30.10//
CALSCALE:GREGORIAN
METHOD:PUBLISH
UID:b87ecbb7-970b-460b-abd0-7ee9f895dbf6
X-WR-CALDESC:
X-WR-RELCALID:7c4da015cc2a43180cf73c895fd3993c
X-WR-TIMEZONE:America/Denver
BEGIN:VTIMEZONE
TZID:America/Denver
BEGIN:STANDARD
TZNAME:MST
DTSTART:20291104T020000
TZOFFSETFROM:-0600
TZOFFSETTO:-0700
RDATE:20301103T020000
END:STANDARD
BEGIN:DAYLIGHT
TZNAME:MDT
DTSTART:20290311T020000
TZOFFSETFROM:-0700
TZOFFSETTO:-0600
RDATE:20300310T020000
RDATE:20310309T020000
END:DAYLIGHT
END:VTIMEZONE
BEGIN:VEVENT
UID:59ad5fd1-8aaf-4ac5-ba66-403abbd9f08a
DTSTAMP:20260423T045026Z
DESCRIPTION:
DTSTART;TZID=America/Denver:20300210T130000
DTEND;TZID=America/Denver:20300210T160000
LOCATION:
SUMMARY:Pinochle
END:VEVENT
END:VCALENDAR
