BEGIN:VCALENDAR
VERSION:2.0
PRODID:-//www.rmdc.net//NONSGML kigkonsult.se iCalcreator 2.30.10//
CALSCALE:GREGORIAN
METHOD:PUBLISH
UID:79ae3d19-fad2-47c6-a913-9b690a526972
X-WR-CALDESC:
X-WR-RELCALID:1ea65f3de85c1c41cb834ee79c6f01b6
X-WR-TIMEZONE:America/Denver
BEGIN:VTIMEZONE
TZID:America/Denver
BEGIN:STANDARD
TZNAME:MST
DTSTART:20291104T020000
TZOFFSETFROM:-0600
TZOFFSETTO:-0700
RDATE:20301103T020000
END:STANDARD
BEGIN:DAYLIGHT
TZNAME:MDT
DTSTART:20290311T020000
TZOFFSETFROM:-0700
TZOFFSETTO:-0600
RDATE:20300310T020000
RDATE:20310309T020000
END:DAYLIGHT
END:VTIMEZONE
BEGIN:VEVENT
UID:970ab571-7221-42e3-a83d-2facd22d9708
DTSTAMP:20260423T045206Z
DESCRIPTION:
DTSTART;TZID=America/Denver:20300212T130000
DTEND;TZID=America/Denver:20300212T160000
LOCATION:
SUMMARY:Pinochle
END:VEVENT
END:VCALENDAR
