BEGIN:VCALENDAR
VERSION:2.0
PRODID:-//www.rmdc.net//NONSGML kigkonsult.se iCalcreator 2.30.10//
CALSCALE:GREGORIAN
METHOD:PUBLISH
UID:c7e9bc8d-99fb-4629-86d9-20aef6750789
X-WR-CALDESC:Learn how to use those pesky phones\, tablets\, and laptops in
  this tech-focused class hosted at the Neighborhood Center.
X-WR-RELCALID:7d347432edddd04f1f265ab9fa2a51d6
X-WR-TIMEZONE:America/Denver
BEGIN:VTIMEZONE
TZID:America/Denver
BEGIN:STANDARD
TZNAME:MST
DTSTART:20291104T020000
TZOFFSETFROM:-0600
TZOFFSETTO:-0700
RDATE:20301103T020000
END:STANDARD
BEGIN:DAYLIGHT
TZNAME:MDT
DTSTART:20290311T020000
TZOFFSETFROM:-0700
TZOFFSETTO:-0600
RDATE:20300310T020000
RDATE:20310309T020000
END:DAYLIGHT
END:VTIMEZONE
BEGIN:VEVENT
UID:2df26461-d5ba-4aa5-97a5-7eee180cd702
DTSTAMP:20260423T063126Z
DESCRIPTION:Learn how to use those pesky phones\, tablets\, and laptops in 
 this tech-focused class hosted at the Neighborhood Center.
DTSTART;TZID=America/Denver:20300304T123000
DTEND;TZID=America/Denver:20300304T133000
LOCATION:200 South Cruse\, Helena\, AL 59601 US
SUMMARY:How the Tech Does this this Work?
END:VEVENT
END:VCALENDAR
