BEGIN:VCALENDAR
VERSION:2.0
PRODID:-//www.rmdc.net//NONSGML kigkonsult.se iCalcreator 2.30.10//
CALSCALE:GREGORIAN
METHOD:PUBLISH
UID:3c1d3bf6-316f-4172-87fe-c8b3f5bd6ebf
X-WR-CALDESC:
X-WR-RELCALID:69c37dc5fc39d8cc241ec4d324c370bc
X-WR-TIMEZONE:America/Denver
BEGIN:VTIMEZONE
TZID:America/Denver
BEGIN:STANDARD
TZNAME:MST
DTSTART:20291104T020000
TZOFFSETFROM:-0600
TZOFFSETTO:-0700
RDATE:20301103T020000
END:STANDARD
BEGIN:DAYLIGHT
TZNAME:MDT
DTSTART:20300310T020000
TZOFFSETFROM:-0700
TZOFFSETTO:-0600
RDATE:20310309T020000
END:DAYLIGHT
END:VTIMEZONE
BEGIN:VEVENT
UID:1620e6b9-f2c9-419f-b59f-7d8e8f1311ac
DTSTAMP:20260423T063700Z
DESCRIPTION:
DTSTART;TZID=America/Denver:20300313T120000
DTEND;TZID=America/Denver:20300313T133000
LOCATION:Parlor
SUMMARY:Hand and Foot Card Game
END:VEVENT
END:VCALENDAR
