BEGIN:VCALENDAR
VERSION:2.0
PRODID:-//www.rmdc.net//NONSGML kigkonsult.se iCalcreator 2.30.10//
CALSCALE:GREGORIAN
METHOD:PUBLISH
UID:dec37330-e9d5-4615-b5ae-46ff4862c424
X-WR-CALDESC:
X-WR-RELCALID:65bba3d10e0f28b0ff426068e5e0e0fc
X-WR-TIMEZONE:America/Denver
BEGIN:VTIMEZONE
TZID:America/Denver
BEGIN:STANDARD
TZNAME:MST
DTSTART:20291104T020000
TZOFFSETFROM:-0600
TZOFFSETTO:-0700
RDATE:20301103T020000
END:STANDARD
BEGIN:DAYLIGHT
TZNAME:MDT
DTSTART:20300310T020000
TZOFFSETFROM:-0700
TZOFFSETTO:-0600
RDATE:20310309T020000
END:DAYLIGHT
END:VTIMEZONE
BEGIN:VEVENT
UID:4c1388c0-fadd-4587-9fc9-9a0e2d262c96
DTSTAMP:20260423T063358Z
DESCRIPTION:
DTSTART;TZID=America/Denver:20300317T130000
DTEND;TZID=America/Denver:20300317T160000
LOCATION:
SUMMARY:Pinochle
END:VEVENT
END:VCALENDAR
