BEGIN:VCALENDAR
VERSION:2.0
PRODID:-//www.rmdc.net//NONSGML kigkonsult.se iCalcreator 2.30.10//
CALSCALE:GREGORIAN
METHOD:PUBLISH
UID:1943bd11-3e2a-4519-8765-84bbc2f30138
X-WR-CALDESC:
X-WR-RELCALID:025bd8720b2f604d7471956296c5c14d
X-WR-TIMEZONE:America/Denver
BEGIN:VTIMEZONE
TZID:America/Denver
BEGIN:STANDARD
TZNAME:MST
DTSTART:20291104T020000
TZOFFSETFROM:-0600
TZOFFSETTO:-0700
RDATE:20301103T020000
END:STANDARD
BEGIN:DAYLIGHT
TZNAME:MDT
DTSTART:20300310T020000
TZOFFSETFROM:-0700
TZOFFSETTO:-0600
RDATE:20310309T020000
END:DAYLIGHT
END:VTIMEZONE
BEGIN:VEVENT
UID:0150b7f8-0d7d-4c58-968d-d2cf2f31e992
DTSTAMP:20260423T063420Z
DESCRIPTION:
DTSTART;TZID=America/Denver:20300326T130000
DTEND;TZID=America/Denver:20300326T160000
LOCATION:
SUMMARY:Pinochle
END:VEVENT
END:VCALENDAR
