BEGIN:VCALENDAR
VERSION:2.0
PRODID:-//www.rmdc.net//NONSGML kigkonsult.se iCalcreator 2.30.10//
CALSCALE:GREGORIAN
METHOD:PUBLISH
UID:2d294255-3f10-4fab-b121-c90585f3928c
X-WR-CALDESC:
X-WR-RELCALID:5f623db47ec2786006c9b06e8befddc7
X-WR-TIMEZONE:America/Denver
BEGIN:VTIMEZONE
TZID:America/Denver
BEGIN:STANDARD
TZNAME:MST
DTSTART:20291104T020000
TZOFFSETFROM:-0600
TZOFFSETTO:-0700
RDATE:20301103T020000
END:STANDARD
BEGIN:DAYLIGHT
TZNAME:MDT
DTSTART:20300310T020000
TZOFFSETFROM:-0700
TZOFFSETTO:-0600
RDATE:20310309T020000
END:DAYLIGHT
END:VTIMEZONE
BEGIN:VEVENT
UID:7345d757-8c75-409f-850b-f64b3caee7a0
DTSTAMP:20260423T063420Z
DESCRIPTION:
DTSTART;TZID=America/Denver:20300331T130000
DTEND;TZID=America/Denver:20300331T160000
LOCATION:
SUMMARY:Pinochle
END:VEVENT
END:VCALENDAR
