BEGIN:VCALENDAR
VERSION:2.0
PRODID:-//www.rmdc.net//NONSGML kigkonsult.se iCalcreator 2.30.10//
CALSCALE:GREGORIAN
METHOD:PUBLISH
UID:75ee4706-2c04-4ffd-9ddb-04cb3c774921
X-WR-CALDESC:The first Wednesday the Senior Advisory Council holds a monthl
 y meeting from 9:30 am to 10:30 am. If you are interested in becoming a me
 mber of the Senior Advisory Council contact Bill Péna at Bpena@rmdc.net or
  by phone at 406-457-7372.
X-WR-RELCALID:e5c40f594631723e3a8ace95e4c5f9a1
X-WR-TIMEZONE:America/Denver
BEGIN:VTIMEZONE
TZID:America/Denver
BEGIN:STANDARD
TZNAME:MST
DTSTART:20291104T020000
TZOFFSETFROM:-0600
TZOFFSETTO:-0700
RDATE:20301103T020000
END:STANDARD
BEGIN:DAYLIGHT
TZNAME:MDT
DTSTART:20300310T020000
TZOFFSETFROM:-0700
TZOFFSETTO:-0600
RDATE:20310309T020000
END:DAYLIGHT
END:VTIMEZONE
BEGIN:VEVENT
UID:bee27b60-e709-4ed9-bb6e-302bd06a4e3f
DTSTAMP:20260423T080837Z
DESCRIPTION:The first Wednesday the Senior Advisory Council holds a monthly
  meeting from 9:30 am to 10:30 am. If you are interested in becoming a mem
 ber of the Senior Advisory Council contact Bill Péna at Bpena@rmdc.net or 
 by phone at 406-457-7372.
DTSTART;TZID=America/Denver:20300403T093000
DTEND;TZID=America/Denver:20300403T103000
LOCATION:200 South Cruse\, Helena\, MT 59601 US
SUMMARY:Senior Advisory Council Meeting
END:VEVENT
END:VCALENDAR
