BEGIN:VCALENDAR
VERSION:2.0
PRODID:-//www.rmdc.net//NONSGML kigkonsult.se iCalcreator 2.30.10//
CALSCALE:GREGORIAN
METHOD:PUBLISH
UID:2b78cab1-683e-4414-bd85-c27ddacc0938
X-WR-CALDESC:
X-WR-RELCALID:61ad70f2d25c2c9afc5f1b9715d73e46
X-WR-TIMEZONE:America/Denver
BEGIN:VTIMEZONE
TZID:America/Denver
BEGIN:STANDARD
TZNAME:MST
DTSTART:20291104T020000
TZOFFSETFROM:-0600
TZOFFSETTO:-0700
RDATE:20301103T020000
END:STANDARD
BEGIN:DAYLIGHT
TZNAME:MDT
DTSTART:20300310T020000
TZOFFSETFROM:-0700
TZOFFSETTO:-0600
RDATE:20310309T020000
END:DAYLIGHT
END:VTIMEZONE
BEGIN:VEVENT
UID:3ed864ef-3fae-47ee-98fc-827db579f336
DTSTAMP:20260423T075829Z
DESCRIPTION:
DTSTART;TZID=America/Denver:20300421T130000
DTEND;TZID=America/Denver:20300421T160000
LOCATION:
SUMMARY:Pinochle
END:VEVENT
END:VCALENDAR
