BEGIN:VCALENDAR
VERSION:2.0
PRODID:-//www.rmdc.net//NONSGML kigkonsult.se iCalcreator 2.30.10//
CALSCALE:GREGORIAN
METHOD:PUBLISH
UID:9583d863-c54d-4e62-a53e-101431a16020
X-WR-CALDESC:
X-WR-RELCALID:8df399fbee079cb0fd3a7eea9ae46c1c
X-WR-TIMEZONE:America/Denver
BEGIN:VTIMEZONE
TZID:America/Denver
BEGIN:STANDARD
TZNAME:MST
DTSTART:20291104T020000
TZOFFSETFROM:-0600
TZOFFSETTO:-0700
RDATE:20301103T020000
END:STANDARD
BEGIN:DAYLIGHT
TZNAME:MDT
DTSTART:20300310T020000
TZOFFSETFROM:-0700
TZOFFSETTO:-0600
RDATE:20310309T020000
END:DAYLIGHT
END:VTIMEZONE
BEGIN:VEVENT
UID:87d92fa8-435d-45a9-b275-6067996a9d44
DTSTAMP:20260423T075951Z
DESCRIPTION:
DTSTART;TZID=America/Denver:20300430T130000
DTEND;TZID=America/Denver:20300430T160000
LOCATION:
SUMMARY:Pinochle
END:VEVENT
END:VCALENDAR
