BEGIN:VCALENDAR
VERSION:2.0
PRODID:-//www.rmdc.net//NONSGML kigkonsult.se iCalcreator 2.30.10//
CALSCALE:GREGORIAN
METHOD:PUBLISH
UID:3170f25d-a33e-4033-b6fb-7f369ae5964e
X-WR-CALDESC:
X-WR-RELCALID:929fd0559c2ac12c06c655d2d10962af
X-WR-TIMEZONE:America/Denver
BEGIN:VTIMEZONE
TZID:America/Denver
BEGIN:STANDARD
TZNAME:MST
DTSTART:20291104T020000
TZOFFSETFROM:-0600
TZOFFSETTO:-0700
RDATE:20301103T020000
RDATE:20311102T020000
END:STANDARD
BEGIN:DAYLIGHT
TZNAME:MDT
DTSTART:20300310T020000
TZOFFSETFROM:-0700
TZOFFSETTO:-0600
RDATE:20310309T020000
END:DAYLIGHT
END:VTIMEZONE
BEGIN:VEVENT
UID:449eee0b-d5a5-4a05-97cf-c1b860e1ba9c
DTSTAMP:20260423T093458Z
DESCRIPTION:
DTSTART;TZID=America/Denver:20300514T130000
DTEND;TZID=America/Denver:20300514T160000
LOCATION:
SUMMARY:Pinochle
END:VEVENT
END:VCALENDAR
