BEGIN:VCALENDAR
VERSION:2.0
PRODID:-//www.rmdc.net//NONSGML kigkonsult.se iCalcreator 2.30.10//
CALSCALE:GREGORIAN
METHOD:PUBLISH
UID:46187d3a-8282-46b5-9546-7a6b6f87808c
X-WR-CALDESC:
X-WR-RELCALID:7276d0d0122d856b7086dd71c948b057
X-WR-TIMEZONE:America/Denver
BEGIN:VTIMEZONE
TZID:America/Denver
BEGIN:STANDARD
TZNAME:MST
DTSTART:20291104T020000
TZOFFSETFROM:-0600
TZOFFSETTO:-0700
RDATE:20301103T020000
RDATE:20311102T020000
END:STANDARD
BEGIN:DAYLIGHT
TZNAME:MDT
DTSTART:20300310T020000
TZOFFSETFROM:-0700
TZOFFSETTO:-0600
RDATE:20310309T020000
END:DAYLIGHT
END:VTIMEZONE
BEGIN:VEVENT
UID:3df47574-5bd0-4f7b-8959-46da57fba3ab
DTSTAMP:20260423T093400Z
DESCRIPTION:
DTSTART;TZID=America/Denver:20300519T130000
DTEND;TZID=America/Denver:20300519T160000
LOCATION:
SUMMARY:Pinochle
END:VEVENT
END:VCALENDAR
