BEGIN:VCALENDAR
VERSION:2.0
PRODID:-//www.rmdc.net//NONSGML kigkonsult.se iCalcreator 2.30.10//
CALSCALE:GREGORIAN
METHOD:PUBLISH
UID:66feb0b6-abb8-4a11-a4e4-bea1d6cdc00d
X-WR-CALDESC:
X-WR-RELCALID:ccbd4f90e5ace6150afa2abe440e3fc7
X-WR-TIMEZONE:America/Denver
BEGIN:VTIMEZONE
TZID:America/Denver
BEGIN:STANDARD
TZNAME:MST
DTSTART:20291104T020000
TZOFFSETFROM:-0600
TZOFFSETTO:-0700
RDATE:20301103T020000
RDATE:20311102T020000
END:STANDARD
BEGIN:DAYLIGHT
TZNAME:MDT
DTSTART:20300310T020000
TZOFFSETFROM:-0700
TZOFFSETTO:-0600
RDATE:20310309T020000
END:DAYLIGHT
END:VTIMEZONE
BEGIN:VEVENT
UID:c00165b0-3463-4941-bcce-c2c8689b4730
DTSTAMP:20260423T093355Z
DESCRIPTION:
DTSTART;TZID=America/Denver:20300526T130000
DTEND;TZID=America/Denver:20300526T160000
LOCATION:
SUMMARY:Pinochle
END:VEVENT
END:VCALENDAR
