BEGIN:VCALENDAR
VERSION:2.0
PRODID:-//www.rmdc.net//NONSGML kigkonsult.se iCalcreator 2.30.10//
CALSCALE:GREGORIAN
METHOD:PUBLISH
UID:fc2c4ba7-3252-44f9-997d-1a43b280dec1
X-WR-CALDESC:
X-WR-RELCALID:b82c93b77904a4eaf5729bf0b867b319
X-WR-TIMEZONE:America/Denver
BEGIN:VTIMEZONE
TZID:America/Denver
BEGIN:STANDARD
TZNAME:MST
DTSTART:20291104T020000
TZOFFSETFROM:-0600
TZOFFSETTO:-0700
RDATE:20301103T020000
RDATE:20311102T020000
END:STANDARD
BEGIN:DAYLIGHT
TZNAME:MDT
DTSTART:20300310T020000
TZOFFSETFROM:-0700
TZOFFSETTO:-0600
RDATE:20310309T020000
END:DAYLIGHT
END:VTIMEZONE
BEGIN:VEVENT
UID:ba1b7c5b-44af-41c2-a9bb-0a0a2eb5e066
DTSTAMP:20260423T093532Z
DESCRIPTION:
DTSTART;TZID=America/Denver:20300528T130000
DTEND;TZID=America/Denver:20300528T160000
LOCATION:
SUMMARY:Pinochle
END:VEVENT
END:VCALENDAR
